BEGIN:VCALENDAR
VERSION:2.0
PRODID:-//Impresariat Artisti - ECPv6.6.2//NONSGML v1.0//EN
CALSCALE:GREGORIAN
METHOD:PUBLISH
X-ORIGINAL-URL:https://attd.ro
X-WR-CALDESC:Events for Impresariat Artisti
REFRESH-INTERVAL;VALUE=DURATION:PT1H
X-Robots-Tag:noindex
X-PUBLISHED-TTL:PT1H
BEGIN:VTIMEZONE
TZID:UTC
BEGIN:STANDARD
TZOFFSETFROM:+0000
TZOFFSETTO:+0000
TZNAME:UTC
DTSTART:20170101T000000
END:STANDARD
END:VTIMEZONE
BEGIN:VEVENT
DTSTART;TZID=UTC:20181207T213000
DTEND;TZID=UTC:20181207T223000
DTSTAMP:20260419T133900
CREATED:20181119T130551Z
LAST-MODIFIED:20181119T130551Z
UID:5708-1544218200-1544221800@attd.ro
SUMMARY:Balul Bobocilor - Adda
DESCRIPTION:In data de 7 decembrie Adda este invitata la balul bobocilor liceului de muzica si arte plastice Constantin Briloiu din Targu Jiu.
URL:https://attd.ro/event/balul-bobocilor-adda/
LOCATION:Targu Jiu\, Targu Jiu\, România
CATEGORIES:concerte
ATTACH;FMTTYPE=image/jpeg:https://attd.ro/wp-content/uploads/contact-adda-impresar-adda-pret-concert.jpg
END:VEVENT
BEGIN:VEVENT
DTSTART;TZID=UTC:20170521T210000
DTEND;TZID=UTC:20170521T220000
DTSTAMP:20260419T133900
CREATED:20181113T090911Z
LAST-MODIFIED:20181113T090911Z
UID:5406-1495400400-1495404000@attd.ro
SUMMARY:Zilele Sighisoarei - Adda
DESCRIPTION:In data de 21 mai Adda\, Lidia Buble si Alex Velea sunt invitati la Zilele Sighisoarei unde sustin concerte live in aer liber.
URL:https://attd.ro/event/zilele-sighisoarei-adda/
LOCATION:Sighisoara\, Sighisoara\, România
CATEGORIES:concerte
ATTACH;FMTTYPE=image/jpeg:https://attd.ro/wp-content/uploads/contact-adda-impresar-adda-pret-concert.jpg
END:VEVENT
BEGIN:VEVENT
DTSTART;TZID=UTC:20170209T210000
DTEND;TZID=UTC:20170209T220000
DTSTAMP:20260419T133900
CREATED:20181112T110048Z
LAST-MODIFIED:20181207T092226Z
UID:5298-1486674000-1486677600@attd.ro
SUMMARY:Concert Live Adda - Club Bucuresti
DESCRIPTION:Concert Live Adda – Club Bucuresti – In data de 9 februarie Adda sustine un concert live la Old City Pub din Bucuresti.
URL:https://attd.ro/event/concert-live-adda-club-bucuresti/
LOCATION:Old City Pub\, Strada Lipscani Nr. 38\, Bucuresti\, România
CATEGORIES:concerte
ATTACH;FMTTYPE=image/jpeg:https://attd.ro/wp-content/uploads/contact-adda-impresar-adda-pret-concert.jpg
END:VEVENT
END:VCALENDAR