BEGIN:VCALENDAR
VERSION:2.0
PRODID:-//Impresariat Artisti - ECPv6.6.2//NONSGML v1.0//EN
CALSCALE:GREGORIAN
METHOD:PUBLISH
X-WR-CALNAME:Impresariat Artisti
X-ORIGINAL-URL:https://attd.ro
X-WR-CALDESC:Events for Impresariat Artisti
REFRESH-INTERVAL;VALUE=DURATION:PT1H
X-Robots-Tag:noindex
X-PUBLISHED-TTL:PT1H
BEGIN:VTIMEZONE
TZID:UTC
BEGIN:STANDARD
TZOFFSETFROM:+0000
TZOFFSETTO:+0000
TZNAME:UTC
DTSTART:20170101T000000
END:STANDARD
END:VTIMEZONE
BEGIN:VEVENT
DTSTART;TZID=UTC:20240227T200000
DTEND;TZID=UTC:20240227T210000
DTSTAMP:20260419T171658
CREATED:20240306T065949Z
LAST-MODIFIED:20240306T065949Z
UID:7053-1709064000-1709067600@attd.ro
SUMMARY:Concert Monaco Club - Ruby
DESCRIPTION:In data de 27 februarie Ruby sustine un concert live la clubul Monaco din Cluj Napoca.
URL:https://attd.ro/event/concert-monaco-club-ruby/
LOCATION:Monaco Club\, Strada Louis Pasteur\, nr. 75\, Cluj Napoca\, 400353\, România
CATEGORIES:concerte
ATTACH;FMTTYPE=image/jpeg:https://attd.ro/wp-content/uploads/impresar-ruby-pret.jpg
END:VEVENT
BEGIN:VEVENT
DTSTART;TZID=UTC:20180613T200000
DTEND;TZID=UTC:20180613T210000
DTSTAMP:20260419T171658
CREATED:20181109T085314Z
LAST-MODIFIED:20181109T085314Z
UID:5148-1528920000-1528923600@attd.ro
SUMMARY:Concert Sylvia by Dj Rynno - Monaco Club
DESCRIPTION:In data de 13 iunie\, Sylvia by Dj Rynno sustine un concert la Monaco Club.
URL:https://attd.ro/event/concert-sylvia-by-dj-rynno-monaco-club/
LOCATION:Monaco Club\, Strada Louis Pasteur\, nr. 75\, Cluj Napoca\, 400353\, România
CATEGORIES:concerte
ATTACH;FMTTYPE=image/jpeg:https://attd.ro/wp-content/uploads/sylvia-dj-rynno-concert-monaco-club.jpg
END:VEVENT
BEGIN:VEVENT
DTSTART;TZID=UTC:20170614T200000
DTEND;TZID=UTC:20170614T210000
DTSTAMP:20260419T171658
CREATED:20181113T103342Z
LAST-MODIFIED:20181113T103342Z
UID:5423-1497470400-1497474000@attd.ro
SUMMARY:Concert Andreea Balan
DESCRIPTION:In data de 14 iunie Andreea Balan sustine un recital alaturi de trupa de dansatoare.
URL:https://attd.ro/event/concert-andreea-balan/
LOCATION:Monaco Club\, Strada Louis Pasteur\, nr. 75\, Cluj Napoca\, 400353\, România
CATEGORIES:concerte
ATTACH;FMTTYPE=image/jpeg:https://attd.ro/wp-content/uploads/contact-andreea-balan-impresar-andreea-balan-pret-concert.jpg
END:VEVENT
BEGIN:VEVENT
DTSTART;TZID=UTC:20170209T210000
DTEND;TZID=UTC:20170209T220000
DTSTAMP:20260419T171658
CREATED:20181112T110048Z
LAST-MODIFIED:20181207T092226Z
UID:5298-1486674000-1486677600@attd.ro
SUMMARY:Concert Live Adda - Club Bucuresti
DESCRIPTION:Concert Live Adda – Club Bucuresti – In data de 9 februarie Adda sustine un concert live la Old City Pub din Bucuresti.
URL:https://attd.ro/event/concert-live-adda-club-bucuresti/
LOCATION:Old City Pub\, Strada Lipscani Nr. 38\, Bucuresti\, România
CATEGORIES:concerte
ATTACH;FMTTYPE=image/jpeg:https://attd.ro/wp-content/uploads/contact-adda-impresar-adda-pret-concert.jpg
END:VEVENT
END:VCALENDAR