BEGIN:VCALENDAR
VERSION:2.0
PRODID:-//Impresariat Artisti - ECPv6.6.2//NONSGML v1.0//EN
CALSCALE:GREGORIAN
METHOD:PUBLISH
X-ORIGINAL-URL:https://attd.ro
X-WR-CALDESC:Events for Impresariat Artisti
REFRESH-INTERVAL;VALUE=DURATION:PT1H
X-Robots-Tag:noindex
X-PUBLISHED-TTL:PT1H
BEGIN:VTIMEZONE
TZID:UTC
BEGIN:STANDARD
TZOFFSETFROM:+0000
TZOFFSETTO:+0000
TZNAME:UTC
DTSTART:20170101T000000
END:STANDARD
END:VTIMEZONE
BEGIN:VEVENT
DTSTART;TZID=UTC:20240317T190000
DTEND;TZID=UTC:20240317T200000
DTSTAMP:20260419T131534
CREATED:20240306T072152Z
LAST-MODIFIED:20240306T072152Z
UID:7061-1710702000-1710705600@attd.ro
SUMMARY:Concert Bascov Gabriel Cotabita
DESCRIPTION:In data de 17 martie Gabriel Cotabita va sustine un concert la Casa de Cultura a Comunei Bascov.
URL:https://attd.ro/event/concert-bascov-gabriel-cotabita/
LOCATION:Casa de Cultura a comunei Bascov\, Bascov\, România
CATEGORIES:concerte
ATTACH;FMTTYPE=image/jpeg:https://attd.ro/wp-content/uploads/contact-gabriel-cotabita-impresar-gabriel-cotabita-pret-concert.jpg
END:VEVENT
BEGIN:VEVENT
DTSTART;TZID=UTC:20240308T220000
DTEND;TZID=UTC:20240308T230000
DTSTAMP:20260419T131534
CREATED:20240125T092848Z
LAST-MODIFIED:20240125T092848Z
UID:6552-1709935200-1709938800@attd.ro
SUMMARY:Concert Deepcentral Calarasi
DESCRIPTION:Trupa Deepcentral va sustine un concert la Restaurantul D’all Class din Calarasi in data de 8 martie.
URL:https://attd.ro/event/concert-deepcentral-calarasi/
LOCATION:D’all Class\, strada Bucuresti nr. 354\, Calarasi\, 910053\, România
CATEGORIES:concerte
ATTACH;FMTTYPE=image/jpeg:https://attd.ro/wp-content/uploads/contact-deepcentral-impresar-deepcentral-pret-concert.jpg
END:VEVENT
BEGIN:VEVENT
DTSTART;TZID=UTC:20240308T173000
DTEND;TZID=UTC:20240308T210000
DTSTAMP:20260419T131534
CREATED:20240306T071320Z
LAST-MODIFIED:20240306T071710Z
UID:7055-1709919000-1709931600@attd.ro
SUMMARY:Concert Gabriel Cotabita Onesti
DESCRIPTION:In data de 8 martie Gabriel Cotabita va sarbatori ziua femeii pe scena si va sustine un concert la Onesti.
URL:https://attd.ro/event/concert-gabriel-cotabita-onesti/
LOCATION:Onesti\, Onesti\, România
CATEGORIES:concerte
ATTACH;FMTTYPE=image/jpeg:https://attd.ro/wp-content/uploads/impresar-gabriel-cotabita-pret-concert.jpg
END:VEVENT
BEGIN:VEVENT
DTSTART;TZID=UTC:20240227T200000
DTEND;TZID=UTC:20240227T210000
DTSTAMP:20260419T131534
CREATED:20240306T065949Z
LAST-MODIFIED:20240306T065949Z
UID:7053-1709064000-1709067600@attd.ro
SUMMARY:Concert Monaco Club - Ruby
DESCRIPTION:In data de 27 februarie Ruby sustine un concert live la clubul Monaco din Cluj Napoca.
URL:https://attd.ro/event/concert-monaco-club-ruby/
LOCATION:Monaco Club\, Strada Louis Pasteur\, nr. 75\, Cluj Napoca\, 400353\, România
CATEGORIES:concerte
ATTACH;FMTTYPE=image/jpeg:https://attd.ro/wp-content/uploads/impresar-ruby-pret.jpg
END:VEVENT
BEGIN:VEVENT
DTSTART;TZID=UTC:20240124T183000
DTEND;TZID=UTC:20240124T193000
DTSTAMP:20260419T131534
CREATED:20240125T091950Z
LAST-MODIFIED:20240125T091950Z
UID:6548-1706121000-1706124600@attd.ro
SUMMARY:Concert Gabriel Dorobantu Slatina
DESCRIPTION:In data de 24 ianuarie 2024 Gabriel Dorobantu sustine un recital la Centrul Cultural Eugen Ionescu din Slatina.
URL:https://attd.ro/event/concert-gabriel-dorobantu-slatina/
LOCATION:centrul cultural eugen ionescu slatina\, Slatina\, România
CATEGORIES:concerte
ATTACH;FMTTYPE=image/jpeg:https://attd.ro/wp-content/uploads/Gabriel-Dorobantu.jpg
END:VEVENT
BEGIN:VEVENT
DTSTART;TZID=UTC:20170521T200000
DTEND;TZID=UTC:20170521T210000
DTSTAMP:20260419T131534
CREATED:20181113T090541Z
LAST-MODIFIED:20181113T090541Z
UID:5403-1495396800-1495400400@attd.ro
SUMMARY:Zilele Sighisoarei - Lidia Buble
DESCRIPTION:In data de 21 mai Lidia Buble\, Alex Velea si Adda sunt invitati la Zilele Sighisoarei unde sustin concerte live in aer liber.
URL:https://attd.ro/event/zilele-sighisoarei-lidia-buble/
LOCATION:Sighisoara\, Sighisoara\, România
CATEGORIES:concerte
ATTACH;FMTTYPE=image/jpeg:https://attd.ro/wp-content/uploads/contact-lidia-buble-impresar-lidia-buble-pret-concert.jpg
END:VEVENT
BEGIN:VEVENT
DTSTART;TZID=UTC:20170521T190000
DTEND;TZID=UTC:20170521T200000
DTSTAMP:20260419T131534
CREATED:20181113T090216Z
LAST-MODIFIED:20181113T090216Z
UID:5398-1495393200-1495396800@attd.ro
SUMMARY:Zilele Sighisoarei - Alex Velea
DESCRIPTION:In data de 21 mai Alex Velea\, Lidia Buble si Adda sunt invitati la Zilele Sighisoarei unde sustin concerte live in aer liber.
URL:https://attd.ro/event/zilele-sighisoarei-alex-velea/
LOCATION:Sighisoara\, Sighisoara\, România
CATEGORIES:concerte
ATTACH;FMTTYPE=image/jpeg:https://attd.ro/wp-content/uploads/contact-alex-velea-impresar-alex-velea-pret-concert.jpg
END:VEVENT
END:VCALENDAR