BEGIN:VCALENDAR
VERSION:2.0
PRODID:-//Impresariat Artisti - ECPv6.6.2//NONSGML v1.0//EN
CALSCALE:GREGORIAN
METHOD:PUBLISH
X-ORIGINAL-URL:https://attd.ro
X-WR-CALDESC:Events for Impresariat Artisti
REFRESH-INTERVAL;VALUE=DURATION:PT1H
X-Robots-Tag:noindex
X-PUBLISHED-TTL:PT1H
BEGIN:VTIMEZONE
TZID:UTC
BEGIN:STANDARD
TZOFFSETFROM:+0000
TZOFFSETTO:+0000
TZNAME:UTC
DTSTART:20240101T000000
END:STANDARD
END:VTIMEZONE
BEGIN:VEVENT
DTSTART;TZID=UTC:20240317T190000
DTEND;TZID=UTC:20240317T200000
DTSTAMP:20260419T150734
CREATED:20240306T072152Z
LAST-MODIFIED:20240306T072152Z
UID:7061-1710702000-1710705600@attd.ro
SUMMARY:Concert Bascov Gabriel Cotabita
DESCRIPTION:In data de 17 martie Gabriel Cotabita va sustine un concert la Casa de Cultura a Comunei Bascov.
URL:https://attd.ro/event/concert-bascov-gabriel-cotabita/
LOCATION:Casa de Cultura a comunei Bascov\, Bascov\, România
CATEGORIES:concerte
ATTACH;FMTTYPE=image/jpeg:https://attd.ro/wp-content/uploads/contact-gabriel-cotabita-impresar-gabriel-cotabita-pret-concert.jpg
END:VEVENT
END:VCALENDAR