BEGIN:VCALENDAR
VERSION:2.0
PRODID:-//Impresariat Artisti - ECPv6.6.2//NONSGML v1.0//EN
CALSCALE:GREGORIAN
METHOD:PUBLISH
X-ORIGINAL-URL:https://attd.ro
X-WR-CALDESC:Events for Impresariat Artisti
REFRESH-INTERVAL;VALUE=DURATION:PT1H
X-Robots-Tag:noindex
X-PUBLISHED-TTL:PT1H
BEGIN:VTIMEZONE
TZID:UTC
BEGIN:STANDARD
TZOFFSETFROM:+0000
TZOFFSETTO:+0000
TZNAME:UTC
DTSTART:20180101T000000
END:STANDARD
END:VTIMEZONE
BEGIN:VEVENT
DTSTART;TZID=UTC:20180721T200000
DTEND;TZID=UTC:20180721T230000
DTSTAMP:20260425T032616
CREATED:20181108T082500Z
LAST-MODIFIED:20181108T084041Z
UID:3942-1532203200-1532214000@attd.ro
SUMMARY:Zilele Orasului Bocsa - Aurelian Temisan
DESCRIPTION:Sâmbătă\, 21 iulie de la ora 20.00 începe concertul de muzică pop-dance care îi are invitaţi pe Elena Gheorghe\, Noaptea Târziu\, What’s Up şi Aurelian Temişan.
URL:https://attd.ro/event/zilele-orasului-bocsa-aurelian-temisan/
LOCATION:Bocsa\, Bocsa\, România
CATEGORIES:concerte
ATTACH;FMTTYPE=image/jpeg:https://attd.ro/wp-content/uploads/aurelian-temisan-zilele-orasului.jpg
END:VEVENT
BEGIN:VEVENT
DTSTART;TZID=UTC:20180721T200000
DTEND;TZID=UTC:20180721T230000
DTSTAMP:20260425T032616
CREATED:20181108T083916Z
LAST-MODIFIED:20181108T084011Z
UID:3947-1532203200-1532214000@attd.ro
SUMMARY:Zilele Orasului Bocsa - Elena Gheorghe
DESCRIPTION:Sâmbătă\, 21 iulie de la ora 20.00 începe concertul de muzică pop-dance care îi are invitaţi pe Elena Gheorghe\, Noaptea Târziu\, What’s Up şi Aurelian Temişan.
URL:https://attd.ro/event/zilele-orasului-bocsa-elena-gheorghe/
LOCATION:Bocsa\, Bocsa\, România
CATEGORIES:concerte
ATTACH;FMTTYPE=image/jpeg:https://attd.ro/wp-content/uploads/elena-gheorghe-zilele-orasului.jpg
END:VEVENT
BEGIN:VEVENT
DTSTART;TZID=UTC:20180721T200000
DTEND;TZID=UTC:20180721T230000
DTSTAMP:20260425T032616
CREATED:20181108T084906Z
LAST-MODIFIED:20181108T084906Z
UID:3952-1532203200-1532214000@attd.ro
SUMMARY:Zilele Orasului Bocsa - What's Up
DESCRIPTION:Sâmbătă\, 21 iulie de la ora 20.00 începe concertul de muzică pop-dance care îi are invitaţi pe Elena Gheorghe\, Noaptea Târziu\, What’s Up şi Aurelian Temişan.
URL:https://attd.ro/event/zilele-orasului-bocsa-whats-up/
LOCATION:Bocsa\, Bocsa\, România
CATEGORIES:concerte
ATTACH;FMTTYPE=image/jpeg:https://attd.ro/wp-content/uploads/whats-up-zilele-orasului.jpg
END:VEVENT
BEGIN:VEVENT
DTSTART;TZID=UTC:20180721T200000
DTEND;TZID=UTC:20180721T230000
DTSTAMP:20260425T032616
CREATED:20181108T085554Z
LAST-MODIFIED:20181109T092137Z
UID:3955-1532203200-1532214000@attd.ro
SUMMARY:Zilele Orasului Bocsa - Noaptea Tarziu
DESCRIPTION:Sâmbătă\, 21 iulie de la ora 20.00 începe concertul de muzică pop-dance care îi are invitaţi pe Elena Gheorghe\, Noaptea Târziu\, What’s Up şi Aurelian Temişan.
URL:https://attd.ro/event/zilele-orasului-bocsa-noaptea-tarziu/
LOCATION:Bocsa\, Bocsa\, România
CATEGORIES:concerte
ATTACH;FMTTYPE=image/jpeg:https://attd.ro/wp-content/uploads/noaptea-tarziu-zilele-orasului.jpg
END:VEVENT
END:VCALENDAR