BEGIN:VCALENDAR
VERSION:2.0
PRODID:-//Impresariat Artisti - ECPv6.6.2//NONSGML v1.0//EN
CALSCALE:GREGORIAN
METHOD:PUBLISH
X-ORIGINAL-URL:https://attd.ro
X-WR-CALDESC:Events for Impresariat Artisti
REFRESH-INTERVAL;VALUE=DURATION:PT1H
X-Robots-Tag:noindex
X-PUBLISHED-TTL:PT1H
BEGIN:VTIMEZONE
TZID:UTC
BEGIN:STANDARD
TZOFFSETFROM:+0000
TZOFFSETTO:+0000
TZNAME:UTC
DTSTART:20180101T000000
END:STANDARD
END:VTIMEZONE
BEGIN:VEVENT
DTSTART;TZID=UTC:20180902T190000
DTEND;TZID=UTC:20180902T200000
DTSTAMP:20260425T003852
CREATED:20181109T110536Z
LAST-MODIFIED:20181109T110536Z
UID:5167-1535914800-1535918400@attd.ro
SUMMARY:Zilele Orasului Alexandria - Feli Donose
DESCRIPTION:In data de 2 septembrie Feli sustine un recital live la Zilele Orasului Alexandria.
URL:https://attd.ro/event/zilele-orasului-alexandria-feli-donose/
LOCATION:Alexandria\, Alexandria\, România
CATEGORIES:concerte
ATTACH;FMTTYPE=image/jpeg:https://attd.ro/wp-content/uploads/zilele-orasului-feli-donose.jpg
END:VEVENT
BEGIN:VEVENT
DTSTART;TZID=UTC:20180926T200000
DTEND;TZID=UTC:20180926T210000
DTSTAMP:20260425T003852
CREATED:20181109T115927Z
LAST-MODIFIED:20181109T115927Z
UID:5172-1537992000-1537995600@attd.ro
SUMMARY:Concert Alessia
DESCRIPTION:Alessia sustine un concert la Club Monaco – Cluj Napoca in data de 26 septembrie.
URL:https://attd.ro/event/concert-alessia/
LOCATION:Monaco Club\, Strada Louis Pasteur\, nr. 75\, Cluj Napoca\, 400353\, România
CATEGORIES:concerte
ATTACH;FMTTYPE=image/jpeg:https://attd.ro/wp-content/uploads/alessia-concert-monaco-club.jpg
END:VEVENT
END:VCALENDAR