BEGIN:VCALENDAR
VERSION:2.0
PRODID:-//Impresariat Artisti - ECPv6.6.2//NONSGML v1.0//EN
CALSCALE:GREGORIAN
METHOD:PUBLISH
X-ORIGINAL-URL:https://attd.ro
X-WR-CALDESC:Events for Impresariat Artisti
REFRESH-INTERVAL;VALUE=DURATION:PT1H
X-Robots-Tag:noindex
X-PUBLISHED-TTL:PT1H
BEGIN:VTIMEZONE
TZID:UTC
BEGIN:STANDARD
TZOFFSETFROM:+0000
TZOFFSETTO:+0000
TZNAME:UTC
DTSTART:20180101T000000
END:STANDARD
END:VTIMEZONE
BEGIN:VEVENT
DTSTART;TZID=UTC:20180806T190000
DTEND;TZID=UTC:20180806T200000
DTSTAMP:20260425T033531
CREATED:20181109T094838Z
LAST-MODIFIED:20181109T094838Z
UID:5164-1533582000-1533585600@attd.ro
SUMMARY:Zilele Orasului Murgeni - Raymond
DESCRIPTION:In data de 6 august Betty si Raymond au fost invitati la zilele orasului Murgeni unde au sustinut recitaluri live.
URL:https://attd.ro/event/zilele-orasului-murgeni-raymond/
LOCATION:Murgeni\, Murgeni\, România
CATEGORIES:concerte
ATTACH;FMTTYPE=image/jpeg:https://attd.ro/wp-content/uploads/raymond-zilele-orasului.jpg
END:VEVENT
BEGIN:VEVENT
DTSTART;TZID=UTC:20180806T200000
DTEND;TZID=UTC:20180806T210000
DTSTAMP:20260425T033531
CREATED:20181109T094130Z
LAST-MODIFIED:20181109T094130Z
UID:5160-1533585600-1533589200@attd.ro
SUMMARY:Zilele Orasului Murgeni - Betty
DESCRIPTION:In data de 6 august Betty si Raymond au fost invitati la zilele orasului Murgeni unde au sustinut recitaluri live.
URL:https://attd.ro/event/zilele-orasului-murgeni-betty/
LOCATION:Murgeni\, Murgeni\, România
CATEGORIES:concerte
ATTACH;FMTTYPE=image/jpeg:https://attd.ro/wp-content/uploads/impresar-betty-pret.jpg
END:VEVENT
END:VCALENDAR