BEGIN:VCALENDAR
VERSION:2.0
PRODID:-//Impresariat Artisti - ECPv6.6.2//NONSGML v1.0//EN
CALSCALE:GREGORIAN
METHOD:PUBLISH
X-WR-CALNAME:Impresariat Artisti
X-ORIGINAL-URL:https://attd.ro
X-WR-CALDESC:Events for Impresariat Artisti
REFRESH-INTERVAL;VALUE=DURATION:PT1H
X-Robots-Tag:noindex
X-PUBLISHED-TTL:PT1H
BEGIN:VTIMEZONE
TZID:UTC
BEGIN:STANDARD
TZOFFSETFROM:+0000
TZOFFSETTO:+0000
TZNAME:UTC
DTSTART:20170101T000000
END:STANDARD
END:VTIMEZONE
BEGIN:VEVENT
DTSTART;TZID=UTC:20170520T200000
DTEND;TZID=UTC:20170520T210000
DTSTAMP:20260419T181938
CREATED:20181113T085647Z
LAST-MODIFIED:20181113T085647Z
UID:5394-1495310400-1495314000@attd.ro
SUMMARY:Zilele Sighisoarei - Trupa Hara
DESCRIPTION:In data de 20 mai trupa Hara\, Gabriel Cotabita si Gabriel Dorobantu sunt invitati la Zilele Sighisoarei unde vor sustine concerte live in aer liber.
URL:https://attd.ro/event/zilele-sighisoarei-trupa-hara/
LOCATION:Sighisoara\, Sighisoara\, România
CATEGORIES:concerte
ATTACH;FMTTYPE=image/jpeg:https://attd.ro/wp-content/uploads/trupa-hara-concert.jpg
END:VEVENT
BEGIN:VEVENT
DTSTART;TZID=UTC:20170520T190000
DTEND;TZID=UTC:20170520T200000
DTSTAMP:20260419T181938
CREATED:20181113T083334Z
LAST-MODIFIED:20181113T083334Z
UID:5384-1495306800-1495310400@attd.ro
SUMMARY:Zilele Sighisoarei Gabriel Dorobantu
DESCRIPTION:In data de 20 mai Gabriel Dorobantu\, Trupa Hara si Gabriel Cotabita sunt invitati la Zilele Sighisoarei unde vor sustine concerte live in aer liber.
URL:https://attd.ro/event/zilele-sighisoarei-gabriel-dorobantu/
LOCATION:Sighisoara\, Sighisoara\, România
CATEGORIES:concerte
ATTACH;FMTTYPE=image/jpeg:https://attd.ro/wp-content/uploads/gabriel-dorobantu-zilele-orasului.jpg
END:VEVENT
BEGIN:VEVENT
DTSTART;TZID=UTC:20170520T180000
DTEND;TZID=UTC:20170520T190000
DTSTAMP:20260419T181938
CREATED:20181113T082313Z
LAST-MODIFIED:20181113T082313Z
UID:5375-1495303200-1495306800@attd.ro
SUMMARY:Zilele Sighisoarei - Gabriel Cotabita
DESCRIPTION:In data de 20 mai Gabriel Cotabita\, Trupa Hara si Gabriel Dorobantu sunt invitati la Zilele Sighisoarei unde vor sustine concerte live in aer liber.
URL:https://attd.ro/event/zilele-sighisoarei-gabriel-cotabita/
LOCATION:Sighisoara\, Sighisoara\, România
CATEGORIES:concerte
ATTACH;FMTTYPE=image/jpeg:https://attd.ro/wp-content/uploads/gabriel-cotabita-mi-e-dor-de-mine.jpg
END:VEVENT
BEGIN:VEVENT
DTSTART;TZID=UTC:20170209T210000
DTEND;TZID=UTC:20170209T220000
DTSTAMP:20260419T181938
CREATED:20181112T110048Z
LAST-MODIFIED:20181207T092226Z
UID:5298-1486674000-1486677600@attd.ro
SUMMARY:Concert Live Adda - Club Bucuresti
DESCRIPTION:Concert Live Adda – Club Bucuresti – In data de 9 februarie Adda sustine un concert live la Old City Pub din Bucuresti.
URL:https://attd.ro/event/concert-live-adda-club-bucuresti/
LOCATION:Old City Pub\, Strada Lipscani Nr. 38\, Bucuresti\, România
CATEGORIES:concerte
ATTACH;FMTTYPE=image/jpeg:https://attd.ro/wp-content/uploads/contact-adda-impresar-adda-pret-concert.jpg
END:VEVENT
END:VCALENDAR